BEGIN:VCALENDAR
VERSION:2.0
PRODID:icalendar-ruby
CALSCALE:GREGORIAN
METHOD:PUBLISH
BEGIN:VEVENT
DTSTAMP:20260419T225236Z
UID:901-435064@calvary.ca
DTSTART;VALUE=DATE:20260419
DTEND;VALUE=DATE:20260422
CLASS:PUBLIC
CREATED:20260419T110111
DESCRIPTION:In order to best serve our church family\, we are continuing to
  provide online teaching in additon to meeting in person on Sundays.\nEver
 y Sunday we will release the same bible story video that we will be seeing
  at B!GTiME on Sunday mornings. \nThis is an opportunity for you\, as par
 ents\, to lead your children in the same Bible stories that we are learnin
 g at the church\, in person. This way\, if you miss a Sunday for any reaso
 n\, you can continue with Church-At-Home. \nI hope you will join the rest
  of Calvary Church in continuing TOGETHER as one church. If you have any q
 uestions\, please don't hesitate to contact us at bigtime@calvary.ca 
LAST-MODIFIED:20260419T110111
LOCATION:Calvary Church Online
SUMMARY:B!GTiME KiDS ONLiNE | On Demand
URL;VALUE=URI:https://www.calvary.ca/events/b-gtime-kids-online-on-demand--
 901/2026-04-19
ATTACH;FILENAME=Thumbnail WK3.jpg;FMTTYPE=image/jpeg:https://dq5pwpg1q8ru0.
 cloudfront.net/2026/04/05/16/45/57/0fed6b8f-d483-40f3-83f6-d5abbd8ee5c0/Th
 umbnail%20WK3.jpg
END:VEVENT
END:VCALENDAR
